BEGIN:VCALENDAR
VERSION:2.0
PRODID:-//eventon.com NONSGML v1.0//EN
CALSCALE:GREGORIAN
METHOD:PUBLISH
BEGIN:VEVENT
UID:69e8a23126ec4
DTSTAMP:20260422T102553Z
DTSTART:20250314T130000Z
DTEND:20250314T180000Z
LOCATION:
SUMMARY:Liam Alexander
DESCRIPTION:Live music\,  bingo\,  open-the-box games\,  free hot food and 
 happy hour drink prices at the bar\nhttps://springheadparkgolf.com/events/l
 iam-alexander/
URL:https://springheadparkgolf.com/events/liam-alexander/
END:VEVENT
END:VCALENDAR